Package: iSEE Version: 2.19.2 Maintainer: Kevin Rue-Albrecht MaintainerEmail: kevinrue67 at gmail.com git_url: https://git.bioconductor.org/packages/iSEE git_branch: devel git_last_commit: 2d462c8 git_last_commit_date: 2024-12-09 22:49:15 -0500 (Mon, 09 Dec 2024)