Package: iSEE Version: 2.19.2 Command: /Library/Frameworks/R.framework/Resources/bin/R CMD check --install=check:iSEE.install-out.txt --library=/Library/Frameworks/R.framework/Resources/library --no-vignettes --timings iSEE_2.19.2.tar.gz StartedAt: 2025-02-04 19:48:36 -0500 (Tue, 04 Feb 2025) EndedAt: 2025-02-04 19:50:34 -0500 (Tue, 04 Feb 2025) EllapsedTime: 118.3 seconds RetCode: 0 Status: OK CheckDir: iSEE.Rcheck Warnings: 0