Package: iSEE Version: 2.19.2 Command: /Library/Frameworks/R.framework/Resources/bin/R CMD INSTALL iSEE StartedAt: 2025-02-04 15:18:01 -0500 (Tue, 04 Feb 2025) EndedAt: 2025-02-04 15:18:17 -0500 (Tue, 04 Feb 2025) EllapsedTime: 15.1 seconds RetCode: 0 Status: OK