Package: iSEE Version: 2.19.2 Command: /home/biocbuild/R/R/bin/R CMD build --keep-empty-dirs --no-resave-data iSEE StartedAt: 2025-01-28 23:48:09 -0000 (Tue, 28 Jan 2025) EndedAt: 2025-01-28 23:51:22 -0000 (Tue, 28 Jan 2025) EllapsedTime: 193.1 seconds RetCode: 0 Status: OK PackageFile: iSEE_2.19.2.tar.gz PackageFileSize: 26.3 MiB