Package: iSEE Version: 2.19.2 Command: /home/biocbuild/R/R/bin/R CMD INSTALL iSEE StartedAt: 2025-01-29 20:09:52 -0000 (Wed, 29 Jan 2025) EndedAt: 2025-01-29 20:10:48 -0000 (Wed, 29 Jan 2025) EllapsedTime: 55.5 seconds RetCode: 0 Status: OK