Package: iSEE Version: 2.19.2 Command: rm -rf iSEE.buildbin-libdir && mkdir iSEE.buildbin-libdir && /Users/biocbuild/BBS/utils/build-universal.sh iSEE_2.19.2.tar.gz /Library/Frameworks/R.framework/Resources/bin/R iSEE.buildbin-libdir StartedAt: 2025-02-05 00:45:20 -0500 (Wed, 05 Feb 2025) EndedAt: 2025-02-05 00:46:26 -0500 (Wed, 05 Feb 2025) EllapsedTime: 65.9 seconds RetCode: 0 Status: OK PackageFile: iSEE_2.19.2.tgz PackageFileSize: 22.44 MiB