Package: iSEE Version: 2.19.2 Command: /Library/Frameworks/R.framework/Resources/bin/R CMD INSTALL iSEE StartedAt: 2025-02-04 15:27:07 -0500 (Tue, 04 Feb 2025) EndedAt: 2025-02-04 15:28:00 -0500 (Tue, 04 Feb 2025) EllapsedTime: 53.2 seconds RetCode: 0 Status: OK