Package: iSEE Version: 2.19.2 Command: /home/biocbuild/bbs-3.21-bioc/R/bin/R CMD build --keep-empty-dirs --no-resave-data iSEE StartedAt: 2025-02-04 17:45:02 -0500 (Tue, 04 Feb 2025) EndedAt: 2025-02-04 17:47:07 -0500 (Tue, 04 Feb 2025) EllapsedTime: 125.2 seconds RetCode: 0 Status: OK PackageFile: iSEE_2.19.2.tar.gz PackageFileSize: 25.61 MiB