Package: iSEE Version: 2.19.2 Command: /home/biocbuild/bbs-3.21-bioc/R/bin/R CMD INSTALL iSEE StartedAt: 2025-02-04 15:21:32 -0500 (Tue, 04 Feb 2025) EndedAt: 2025-02-04 15:22:11 -0500 (Tue, 04 Feb 2025) EllapsedTime: 39.4 seconds RetCode: 0 Status: OK