Package: iSEE Version: 2.19.2 Command: E:\biocbuild\bbs-3.21-bioc\R\bin\R.exe CMD check --no-multiarch --install=check:iSEE.install-out.txt --library=E:\biocbuild\bbs-3.21-bioc\R\library --no-vignettes --timings iSEE_2.19.2.tar.gz StartedAt: 2025-02-13 02:22:49 -0500 (Thu, 13 Feb 2025) EndedAt: 2025-02-13 02:30:21 -0500 (Thu, 13 Feb 2025) EllapsedTime: 452.0 seconds RetCode: 0 Status: OK CheckDir: iSEE.Rcheck Warnings: 0