Package: iSEEde Version: 1.5.0 Command: rm -rf iSEEde.buildbin-libdir && mkdir iSEEde.buildbin-libdir && /Users/biocbuild/BBS/utils/build-universal.sh iSEEde_1.5.0.tar.gz /Library/Frameworks/R.framework/Resources/bin/R iSEEde.buildbin-libdir StartedAt: 2025-02-09 22:18:28 -0500 (Sun, 09 Feb 2025) EndedAt: 2025-02-09 22:18:43 -0500 (Sun, 09 Feb 2025) EllapsedTime: 15.3 seconds RetCode: 0 Status: OK PackageFile: iSEEde_1.5.0.tgz PackageFileSize: 2.419 MiB