Package: iSEEde Version: 1.5.0 Command: /Library/Frameworks/R.framework/Resources/bin/R CMD build --keep-empty-dirs --no-resave-data iSEEde StartedAt: 2025-02-09 16:43:28 -0500 (Sun, 09 Feb 2025) EndedAt: 2025-02-09 16:44:15 -0500 (Sun, 09 Feb 2025) EllapsedTime: 47.5 seconds RetCode: 0 Status: OK PackageFile: iSEEde_1.5.0.tar.gz PackageFileSize: 3.09 MiB