Package: iSEEde Version: 1.5.0 Command: /Library/Frameworks/R.framework/Resources/bin/R CMD INSTALL iSEEde StartedAt: 2025-02-09 15:18:10 -0500 (Sun, 09 Feb 2025) EndedAt: 2025-02-09 15:18:23 -0500 (Sun, 09 Feb 2025) EllapsedTime: 12.7 seconds RetCode: 0 Status: OK