Package: iSEEde Version: 1.5.0 Command: rm -rf iSEEde.buildbin-libdir && mkdir iSEEde.buildbin-libdir && /Users/biocbuild/BBS/utils/build-universal.sh iSEEde_1.5.0.tar.gz /Library/Frameworks/R.framework/Resources/bin/R iSEEde.buildbin-libdir StartedAt: 2025-02-10 00:59:04 -0500 (Mon, 10 Feb 2025) EndedAt: 2025-02-10 00:59:53 -0500 (Mon, 10 Feb 2025) EllapsedTime: 48.2 seconds RetCode: 0 Status: OK PackageFile: iSEEde_1.5.0.tgz PackageFileSize: 2.418 MiB