Package: iSEEde Version: 1.5.0 Command: /home/biocbuild/bbs-3.21-bioc/R/bin/R CMD INSTALL iSEEde StartedAt: 2025-02-09 15:29:30 -0500 (Sun, 09 Feb 2025) EndedAt: 2025-02-09 15:30:03 -0500 (Sun, 09 Feb 2025) EllapsedTime: 32.6 seconds RetCode: 0 Status: OK