Package: iSEEde Version: 1.5.0 Command: rm -rf iSEEde.buildbin-libdir && mkdir iSEEde.buildbin-libdir && E:\biocbuild\bbs-3.21-bioc\R\bin\R.exe CMD INSTALL --build --library=iSEEde.buildbin-libdir iSEEde_1.5.0.tar.gz StartedAt: 2025-02-10 07:59:18 -0500 (Mon, 10 Feb 2025) EndedAt: 2025-02-10 08:00:14 -0500 (Mon, 10 Feb 2025) EllapsedTime: 56.1 seconds RetCode: 0 Status: OK PackageFile: iSEEde_1.5.0.zip PackageFileSize: 2.428 MiB