Package: iSEEde Version: 1.5.0 Command: chmod a+r iSEEde -R && E:\biocbuild\bbs-3.21-bioc\R\bin\R.exe CMD build --keep-empty-dirs --no-resave-data iSEEde StartedAt: 2025-02-09 19:25:56 -0500 (Sun, 09 Feb 2025) EndedAt: 2025-02-09 19:28:35 -0500 (Sun, 09 Feb 2025) EllapsedTime: 159.1 seconds RetCode: 0 Status: OK PackageFile: iSEEde_1.5.0.tar.gz PackageFileSize: 3.091 MiB