Package: iSEEfier Version: 1.3.0 Command: /Library/Frameworks/R.framework/Resources/bin/R CMD INSTALL iSEEfier StartedAt: 2025-02-09 15:18:51 -0500 (Sun, 09 Feb 2025) EndedAt: 2025-02-09 15:19:02 -0500 (Sun, 09 Feb 2025) EllapsedTime: 10.9 seconds RetCode: 0 Status: OK