Package: iSEEfier Version: 1.3.0 Command: rm -rf iSEEfier.buildbin-libdir && mkdir iSEEfier.buildbin-libdir && /Users/biocbuild/BBS/utils/build-universal.sh iSEEfier_1.3.0.tar.gz /Library/Frameworks/R.framework/Resources/bin/R iSEEfier.buildbin-libdir StartedAt: 2025-02-10 00:59:07 -0500 (Mon, 10 Feb 2025) EndedAt: 2025-02-10 00:59:48 -0500 (Mon, 10 Feb 2025) EllapsedTime: 41.2 seconds RetCode: 0 Status: OK PackageFile: iSEEfier_1.3.0.tgz PackageFileSize: 518.6 KiB