Package: iSEEfier Version: 1.3.0 Command: /Library/Frameworks/R.framework/Resources/bin/R CMD build --keep-empty-dirs --no-resave-data iSEEfier StartedAt: 2025-02-12 17:08:54 -0500 (Wed, 12 Feb 2025) EndedAt: 2025-02-12 17:10:12 -0500 (Wed, 12 Feb 2025) EllapsedTime: 77.7 seconds RetCode: 0 Status: OK PackageFile: iSEEfier_1.3.0.tar.gz PackageFileSize: 490.5 KiB