Package: iSEEfier Version: 1.3.0 Command: /Library/Frameworks/R.framework/Resources/bin/R CMD INSTALL iSEEfier StartedAt: 2025-02-12 15:29:57 -0500 (Wed, 12 Feb 2025) EndedAt: 2025-02-12 15:30:35 -0500 (Wed, 12 Feb 2025) EllapsedTime: 37.7 seconds RetCode: 0 Status: OK