Package: iSEEfier Version: 1.3.0 Command: /home/biocbuild/bbs-3.21-bioc/R/bin/R CMD check --install=check:iSEEfier.install-out.txt --library=/home/biocbuild/bbs-3.21-bioc/R/site-library --timings iSEEfier_1.3.0.tar.gz StartedAt: 2025-02-09 23:27:10 -0500 (Sun, 09 Feb 2025) EndedAt: 2025-02-09 23:32:43 -0500 (Sun, 09 Feb 2025) EllapsedTime: 332.3 seconds RetCode: 0 Status: OK CheckDir: iSEEfier.Rcheck Warnings: 0