Package: iSEEfier Version: 1.3.0 Command: /home/biocbuild/bbs-3.21-bioc/R/bin/R CMD INSTALL iSEEfier StartedAt: 2025-02-09 15:24:54 -0500 (Sun, 09 Feb 2025) EndedAt: 2025-02-09 15:25:22 -0500 (Sun, 09 Feb 2025) EllapsedTime: 27.3 seconds RetCode: 0 Status: OK