Package: iSEEfier Version: 1.3.0 Command: chmod a+r iSEEfier -R && E:\biocbuild\bbs-3.21-bioc\R\bin\R.exe CMD build --keep-empty-dirs --no-resave-data iSEEfier StartedAt: 2025-02-09 19:25:57 -0500 (Sun, 09 Feb 2025) EndedAt: 2025-02-09 19:27:29 -0500 (Sun, 09 Feb 2025) EllapsedTime: 92.6 seconds RetCode: 0 Status: OK PackageFile: iSEEfier_1.3.0.tar.gz PackageFileSize: 371.5 KiB