Package: iSEEfier Version: 1.3.0 Command: E:\biocbuild\bbs-3.21-bioc\R\bin\R.exe CMD INSTALL iSEEfier StartedAt: 2025-02-12 16:42:12 -0500 (Wed, 12 Feb 2025) EndedAt: 2025-02-12 16:42:45 -0500 (Wed, 12 Feb 2025) EllapsedTime: 33.4 seconds RetCode: 0 Status: OK