Package: iSEEhub Version: 1.9.0 Command: rm -rf iSEEhub.buildbin-libdir && mkdir iSEEhub.buildbin-libdir && /Users/biocbuild/BBS/utils/build-universal.sh iSEEhub_1.9.0.tar.gz /Library/Frameworks/R.framework/Resources/bin/R iSEEhub.buildbin-libdir StartedAt: 2025-02-09 22:18:31 -0500 (Sun, 09 Feb 2025) EndedAt: 2025-02-09 22:18:46 -0500 (Sun, 09 Feb 2025) EllapsedTime: 15.3 seconds RetCode: 0 Status: OK PackageFile: iSEEhub_1.9.0.tgz PackageFileSize: 3.687 MiB