Package: iSEEhub Version: 1.9.0 Command: rm -rf iSEEhub.buildbin-libdir && mkdir iSEEhub.buildbin-libdir && /Users/biocbuild/BBS/utils/build-universal.sh iSEEhub_1.9.0.tar.gz /Library/Frameworks/R.framework/Resources/bin/R iSEEhub.buildbin-libdir StartedAt: 2025-02-10 00:59:10 -0500 (Mon, 10 Feb 2025) EndedAt: 2025-02-10 01:00:01 -0500 (Mon, 10 Feb 2025) EllapsedTime: 50.5 seconds RetCode: 0 Status: OK PackageFile: iSEEhub_1.9.0.tgz PackageFileSize: 3.687 MiB