Package: iSEEhub Version: 1.9.0 Command: /Library/Frameworks/R.framework/Resources/bin/R CMD check --install=check:iSEEhub.install-out.txt --library=/Library/Frameworks/R.framework/Resources/library --no-vignettes --timings iSEEhub_1.9.0.tar.gz StartedAt: 2025-02-09 21:27:43 -0500 (Sun, 09 Feb 2025) EndedAt: 2025-02-09 21:32:19 -0500 (Sun, 09 Feb 2025) EllapsedTime: 276.5 seconds RetCode: 0 Status: OK CheckDir: iSEEhub.Rcheck Warnings: 0