Package: iSEEhub Version: 1.9.0 Command: /Library/Frameworks/R.framework/Resources/bin/R CMD INSTALL iSEEhub StartedAt: 2025-02-09 15:28:50 -0500 (Sun, 09 Feb 2025) EndedAt: 2025-02-09 15:29:37 -0500 (Sun, 09 Feb 2025) EllapsedTime: 46.7 seconds RetCode: 0 Status: OK