Package: iSEEhub Version: 1.9.0 Command: /home/biocbuild/bbs-3.21-bioc/R/bin/R CMD build --keep-empty-dirs --no-resave-data iSEEhub StartedAt: 2025-02-09 17:47:58 -0500 (Sun, 09 Feb 2025) EndedAt: 2025-02-09 17:48:53 -0500 (Sun, 09 Feb 2025) EllapsedTime: 55.1 seconds RetCode: 0 Status: OK PackageFile: iSEEhub_1.9.0.tar.gz PackageFileSize: 6.619 MiB