Package: iSEEhub Version: 1.9.0 Command: chmod a+r iSEEhub -R && E:\biocbuild\bbs-3.21-bioc\R\bin\R.exe CMD build --keep-empty-dirs --no-resave-data iSEEhub StartedAt: 2025-02-09 19:26:42 -0500 (Sun, 09 Feb 2025) EndedAt: 2025-02-09 19:27:49 -0500 (Sun, 09 Feb 2025) EllapsedTime: 67.7 seconds RetCode: 0 Status: OK PackageFile: iSEEhub_1.9.0.tar.gz PackageFileSize: 6.619 MiB