Package: iSEEpathways Version: 1.5.0 Command: /Library/Frameworks/R.framework/Resources/bin/R CMD build --keep-empty-dirs --no-resave-data iSEEpathways StartedAt: 2025-02-09 16:43:59 -0500 (Sun, 09 Feb 2025) EndedAt: 2025-02-09 16:45:12 -0500 (Sun, 09 Feb 2025) EllapsedTime: 72.8 seconds RetCode: 0 Status: OK PackageFile: iSEEpathways_1.5.0.tar.gz PackageFileSize: 2.138 MiB