Package: iSEEpathways Version: 1.5.0 Command: /Library/Frameworks/R.framework/Resources/bin/R CMD check --install=check:iSEEpathways.install-out.txt --library=/Library/Frameworks/R.framework/Resources/library --no-vignettes --timings iSEEpathways_1.5.0.tar.gz StartedAt: 2025-02-03 20:24:40 -0500 (Mon, 03 Feb 2025) EndedAt: 2025-02-03 20:25:58 -0500 (Mon, 03 Feb 2025) EllapsedTime: 77.9 seconds RetCode: 0 Status: OK CheckDir: iSEEpathways.Rcheck Warnings: 0