Package: iSEEpathways Version: 1.5.0 Command: rm -rf iSEEpathways.buildbin-libdir && mkdir iSEEpathways.buildbin-libdir && /Users/biocbuild/BBS/utils/build-universal.sh iSEEpathways_1.5.0.tar.gz /Library/Frameworks/R.framework/Resources/bin/R iSEEpathways.buildbin-libdir StartedAt: 2025-02-04 00:39:50 -0500 (Tue, 04 Feb 2025) EndedAt: 2025-02-04 00:40:34 -0500 (Tue, 04 Feb 2025) EllapsedTime: 43.8 seconds RetCode: 0 Status: OK PackageFile: iSEEpathways_1.5.0.tgz PackageFileSize: 1.781 MiB