Package: iSEEpathways Version: 1.5.0 Command: /home/biocbuild/bbs-3.21-bioc/R/bin/R CMD INSTALL iSEEpathways StartedAt: 2025-02-03 15:32:47 -0500 (Mon, 03 Feb 2025) EndedAt: 2025-02-03 15:33:16 -0500 (Mon, 03 Feb 2025) EllapsedTime: 29.0 seconds RetCode: 0 Status: OK