Package: iSEEtree Version: 1.1.2 Maintainer: Giulio Benedetti MaintainerEmail: giulio.benedetti at utu.fi git_url: https://git.bioconductor.org/packages/iSEEtree git_branch: devel git_last_commit: 628462c git_last_commit_date: 2024-12-14 03:01:03 -0500 (Sat, 14 Dec 2024)