Package: iSEEtree Version: 1.1.2 Command: /Library/Frameworks/R.framework/Resources/bin/R CMD check --install=check:iSEEtree.install-out.txt --library=/Library/Frameworks/R.framework/Resources/library --no-vignettes --timings iSEEtree_1.1.2.tar.gz StartedAt: 2025-02-12 19:51:21 -0500 (Wed, 12 Feb 2025) EndedAt: 2025-02-12 19:53:25 -0500 (Wed, 12 Feb 2025) EllapsedTime: 124.5 seconds RetCode: 0 Status: OK CheckDir: iSEEtree.Rcheck Warnings: 0