Package: iSEEtree Version: 1.1.2 Command: /home/biocbuild/bbs-3.21-bioc/R/bin/R CMD INSTALL iSEEtree StartedAt: 2025-02-09 15:55:46 -0500 (Sun, 09 Feb 2025) EndedAt: 2025-02-09 15:56:33 -0500 (Sun, 09 Feb 2025) EllapsedTime: 47.0 seconds RetCode: 0 Status: OK