Package: iSEEtree Version: 1.1.2 Command: rm -rf iSEEtree.buildbin-libdir && mkdir iSEEtree.buildbin-libdir && E:\biocbuild\bbs-3.21-bioc\R\bin\R.exe CMD INSTALL --build --library=iSEEtree.buildbin-libdir iSEEtree_1.1.2.tar.gz StartedAt: 2025-02-10 07:59:52 -0500 (Mon, 10 Feb 2025) EndedAt: 2025-02-10 08:01:09 -0500 (Mon, 10 Feb 2025) EllapsedTime: 77.0 seconds RetCode: 0 Status: OK PackageFile: iSEEtree_1.1.2.zip PackageFileSize: 1.406 MiB