Package: iSEEtree Version: 1.1.2 Command: E:\biocbuild\bbs-3.21-bioc\R\bin\R.exe CMD check --no-multiarch --install=check:iSEEtree.install-out.txt --library=E:\biocbuild\bbs-3.21-bioc\R\library --no-vignettes --timings iSEEtree_1.1.2.tar.gz StartedAt: 2025-02-10 02:14:38 -0500 (Mon, 10 Feb 2025) EndedAt: 2025-02-10 02:20:54 -0500 (Mon, 10 Feb 2025) EllapsedTime: 376.0 seconds RetCode: 0 Status: OK CheckDir: iSEEtree.Rcheck Warnings: 0