Package: iSEEu Version: 1.19.0 Command: /Library/Frameworks/R.framework/Resources/bin/R CMD build --keep-empty-dirs --no-resave-data iSEEu StartedAt: 2025-02-12 17:09:23 -0500 (Wed, 12 Feb 2025) EndedAt: 2025-02-12 17:11:20 -0500 (Wed, 12 Feb 2025) EllapsedTime: 117.7 seconds RetCode: 0 Status: OK PackageFile: iSEEu_1.19.0.tar.gz PackageFileSize: 1.62 MiB