Package: iSEEu Version: 1.19.0 Command: /Library/Frameworks/R.framework/Resources/bin/R CMD INSTALL iSEEu StartedAt: 2025-02-12 15:28:58 -0500 (Wed, 12 Feb 2025) EndedAt: 2025-02-12 15:29:44 -0500 (Wed, 12 Feb 2025) EllapsedTime: 46.0 seconds RetCode: 0 Status: OK