Package: iSEEu Version: 1.19.0 Command: /home/biocbuild/bbs-3.21-bioc/R/bin/R CMD check --install=check:iSEEu.install-out.txt --library=/home/biocbuild/bbs-3.21-bioc/R/site-library --timings iSEEu_1.19.0.tar.gz StartedAt: 2025-02-12 23:30:03 -0500 (Wed, 12 Feb 2025) EndedAt: 2025-02-12 23:36:10 -0500 (Wed, 12 Feb 2025) EllapsedTime: 366.5 seconds RetCode: 0 Status: WARNINGS CheckDir: iSEEu.Rcheck Warnings: 1