Package: iSEEu Version: 1.19.0 Command: /home/biocbuild/bbs-3.21-bioc/R/bin/R CMD INSTALL iSEEu StartedAt: 2025-02-09 15:24:17 -0500 (Sun, 09 Feb 2025) EndedAt: 2025-02-09 15:24:52 -0500 (Sun, 09 Feb 2025) EllapsedTime: 34.4 seconds RetCode: 0 Status: OK