Package: iSEEu Version: 1.19.0 Command: E:\biocbuild\bbs-3.21-bioc\R\bin\R.exe CMD check --no-multiarch --install=check:iSEEu.install-out.txt --library=E:\biocbuild\bbs-3.21-bioc\R\library --no-vignettes --timings iSEEu_1.19.0.tar.gz StartedAt: 2025-02-13 02:25:20 -0500 (Thu, 13 Feb 2025) EndedAt: 2025-02-13 02:31:24 -0500 (Thu, 13 Feb 2025) EllapsedTime: 364.1 seconds RetCode: 0 Status: WARNINGS CheckDir: iSEEu.Rcheck Warnings: 1