Package: iasva Version: 1.25.0 Command: /Library/Frameworks/R.framework/Resources/bin/R CMD INSTALL iasva StartedAt: 2025-02-12 15:13:46 -0500 (Wed, 12 Feb 2025) EndedAt: 2025-02-12 15:14:12 -0500 (Wed, 12 Feb 2025) EllapsedTime: 26.1 seconds RetCode: 0 Status: OK