Package: iasva Version: 1.25.0 Command: E:\biocbuild\bbs-3.21-bioc\R\bin\R.exe CMD INSTALL iasva StartedAt: 2025-02-09 16:08:58 -0500 (Sun, 09 Feb 2025) EndedAt: 2025-02-09 16:09:23 -0500 (Sun, 09 Feb 2025) EllapsedTime: 24.9 seconds RetCode: 0 Status: OK