Package: ibh Version: 1.55.0 Command: /Library/Frameworks/R.framework/Resources/bin/R CMD build --keep-empty-dirs --no-resave-data ibh StartedAt: 2025-02-03 17:15:22 -0500 (Mon, 03 Feb 2025) EndedAt: 2025-02-03 17:15:26 -0500 (Mon, 03 Feb 2025) EllapsedTime: 4.1 seconds RetCode: 0 Status: OK PackageFile: ibh_1.55.0.tar.gz PackageFileSize: 127.4 KiB