Package: ibh Version: 1.55.0 Command: /Library/Frameworks/R.framework/Resources/bin/R CMD check --install=check:ibh.install-out.txt --library=/Library/Frameworks/R.framework/Resources/library --no-vignettes --timings ibh_1.55.0.tar.gz StartedAt: 2025-02-09 19:40:46 -0500 (Sun, 09 Feb 2025) EndedAt: 2025-02-09 19:40:57 -0500 (Sun, 09 Feb 2025) EllapsedTime: 11.1 seconds RetCode: 0 Status: OK CheckDir: ibh.Rcheck Warnings: 0