Package: ibh Version: 1.55.0 Command: /Library/Frameworks/R.framework/Resources/bin/R CMD INSTALL ibh StartedAt: 2025-02-03 15:37:07 -0500 (Mon, 03 Feb 2025) EndedAt: 2025-02-03 15:37:10 -0500 (Mon, 03 Feb 2025) EllapsedTime: 2.6 seconds RetCode: 0 Status: OK